BEGIN:VCALENDAR
VERSION:2.0
PRODID:-//ChurchDev//Events//EN
CALSCALE:GREGORIAN
METHOD:PUBLISH
BEGIN:VEVENT
UID:3594-20240305@www.williamsburgpresbyterian.org
SUMMARY:Book Study
DTSTART;VALUE=DATE:20240305
DTEND;VALUE=DATE:20240306
DESCRIPTION:https://www.williamsburgpresbyterian.org/events/book-study-5/
LOCATION:411 North Academy Kingstree\, SC 29556
URL:https://www.williamsburgpresbyterian.org/events/book-study-5/
DTSTAMP:20260419T231830Z
END:VEVENT
END:VCALENDAR
